BEGIN:VCALENDAR
VERSION:2.0
PRODID:-//Experience Centre - ECPv6.10.0//NONSGML v1.0//EN
CALSCALE:GREGORIAN
METHOD:PUBLISH
X-ORIGINAL-URL:https://www.crossriverrailexperiencecentre.qld.gov.au
X-WR-CALDESC:Events for Experience Centre
REFRESH-INTERVAL;VALUE=DURATION:PT1H
X-Robots-Tag:noindex
X-PUBLISHED-TTL:PT1H
BEGIN:VTIMEZONE
TZID:Australia/Brisbane
BEGIN:STANDARD
TZOFFSETFROM:+1000
TZOFFSETTO:+1000
TZNAME:AEST
DTSTART:20210101T000000
END:STANDARD
END:VTIMEZONE
BEGIN:VEVENT
DTSTART;TZID=Australia/Brisbane:20211010T093000
DTEND;TZID=Australia/Brisbane:20211010T093000
DTSTAMP:20260426T052544
CREATED:20211008T030437Z
LAST-MODIFIED:20211008T063308Z
UID:10000285-1633858200-1633858200@www.crossriverrailexperiencecentre.qld.gov.au
SUMMARY:School Visits
DESCRIPTION:
URL:https://www.crossriverrailexperiencecentre.qld.gov.au/event/school-visits/2021-10-10/
LOCATION:Experience Centre\, 1/151 Elizabeth Street\, Brisbane\, Queensland\, 4000\, Australia
CATEGORIES:School Visits
GEO:-27.470079673728;153.02656643906
X-APPLE-STRUCTURED-LOCATION;VALUE=URI;X-ADDRESS=Experience Centre 1/151 Elizabeth Street Brisbane Queensland 4000 Australia;X-APPLE-RADIUS=500;X-TITLE=1/151 Elizabeth Street:geo:153.02656643906,-27.470079673728
END:VEVENT
BEGIN:VEVENT
DTSTART;TZID=Australia/Brisbane:20211010T113000
DTEND;TZID=Australia/Brisbane:20211010T133000
DTSTAMP:20260426T052544
CREATED:20211007T055642Z
LAST-MODIFIED:20211008T062852Z
UID:10000274-1633865400-1633872600@www.crossriverrailexperiencecentre.qld.gov.au
SUMMARY:Future Builders: Stop-Motion Movie Set Challenge
DESCRIPTION:While our Cross River Rail designers are busy transforming travel for South East Queensland\, we invite you to be inspired by our mega-machines and future stations. Help us design and build a stop-motion movie set using Lego Bricks. Use your engineering skills to make an accurate construction machine\, or let your imagination go wild and create a set for the main characters to star in. Your creations will be photographed and may be featured in a stop motion movie that will be shown in the Experience Centre later in the year! No bookings required\, though there is limited capacity for each session. Suitable for ages 4 to 14\, adult supervision encouraged.
URL:https://www.crossriverrailexperiencecentre.qld.gov.au/event/future-builders-stop-motion-movie-set-challenge/
LOCATION:Experience Centre\, 1/151 Elizabeth Street\, Brisbane\, Queensland\, 4000\, Australia
CATEGORIES:Weekend Programs
ATTACH;FMTTYPE=image/jpeg:https://www.crossriverrailexperiencecentre.qld.gov.au/wp-content/uploads/2021/10/event-future-builders.jpg
GEO:-27.470079673728;153.02656643906
X-APPLE-STRUCTURED-LOCATION;VALUE=URI;X-ADDRESS=Experience Centre 1/151 Elizabeth Street Brisbane Queensland 4000 Australia;X-APPLE-RADIUS=500;X-TITLE=1/151 Elizabeth Street:geo:153.02656643906,-27.470079673728
END:VEVENT
END:VCALENDAR