BEGIN:VCALENDAR
VERSION:2.0
PRODID:-//Experience Centre - ECPv6.10.0//NONSGML v1.0//EN
CALSCALE:GREGORIAN
METHOD:PUBLISH
X-ORIGINAL-URL:https://www.crossriverrailexperiencecentre.qld.gov.au
X-WR-CALDESC:Events for Experience Centre
REFRESH-INTERVAL;VALUE=DURATION:PT1H
X-Robots-Tag:noindex
X-PUBLISHED-TTL:PT1H
BEGIN:VTIMEZONE
TZID:Australia/Brisbane
BEGIN:STANDARD
TZOFFSETFROM:+1000
TZOFFSETTO:+1000
TZNAME:AEST
DTSTART:20220101T000000
END:STANDARD
END:VTIMEZONE
BEGIN:VEVENT
DTSTART;TZID=Australia/Brisbane:20220104T130000
DTEND;TZID=Australia/Brisbane:20220104T143000
DTSTAMP:20260421T131549
CREATED:20211116T010146Z
LAST-MODIFIED:20211221T012718Z
UID:10000395-1641301200-1641306600@www.crossriverrailexperiencecentre.qld.gov.au
SUMMARY:Build a Balloon Racer
DESCRIPTION:Build your very own balloon powered racers and see how quickly you can complete the course. We’ll provide some general tips on creating your very own race car\, then use air pressure to complete our course as quickly as possible.  \nRecommended for ages 5+\, adult supervision encouraged. \nThis is a drop in session\, please feel free to just turn up during this time. \n\nDecember 23\, 11.30am – 1pm\nJanuary 4\, 1pm – 2.30pm\nJanuary 8\, 12.30pm – 2pm\nJanuary 10\, 10.30am – 12pm\nJanuary 15\, 12.30pm – 2pm\nJanuary 19\, 11.30 – 1pm
URL:https://www.crossriverrailexperiencecentre.qld.gov.au/event/build-a-balloon-racer/2022-01-04/
LOCATION:Experience Centre\, 1/151 Elizabeth Street\, Brisbane\, Queensland\, 4000\, Australia
CATEGORIES:School Holidays
ATTACH;FMTTYPE=image/png:https://www.crossriverrailexperiencecentre.qld.gov.au/wp-content/uploads/2021/12/211129-21-X1002-ExpC-School-Holiday-Activity-Graphics_v23.png
GEO:-27.470079673728;153.02656643906
X-APPLE-STRUCTURED-LOCATION;VALUE=URI;X-ADDRESS=Experience Centre 1/151 Elizabeth Street Brisbane Queensland 4000 Australia;X-APPLE-RADIUS=500;X-TITLE=1/151 Elizabeth Street:geo:153.02656643906,-27.470079673728
END:VEVENT
END:VCALENDAR