BEGIN:VCALENDAR
VERSION:2.0
PRODID:-//Experience Centre - ECPv6.10.0//NONSGML v1.0//EN
CALSCALE:GREGORIAN
METHOD:PUBLISH
X-ORIGINAL-URL:https://www.crossriverrailexperiencecentre.qld.gov.au
X-WR-CALDESC:Events for Experience Centre
REFRESH-INTERVAL;VALUE=DURATION:PT1H
X-Robots-Tag:noindex
X-PUBLISHED-TTL:PT1H
BEGIN:VTIMEZONE
TZID:Australia/Brisbane
BEGIN:STANDARD
TZOFFSETFROM:+1000
TZOFFSETTO:+1000
TZNAME:AEST
DTSTART:20220101T000000
END:STANDARD
END:VTIMEZONE
BEGIN:VEVENT
DTSTART;TZID=Australia/Brisbane:20220112T093000
DTEND;TZID=Australia/Brisbane:20220112T093000
DTSTAMP:20260421T142808
CREATED:20211008T030437Z
LAST-MODIFIED:20211008T063308Z
UID:10000358-1641979800-1641979800@www.crossriverrailexperiencecentre.qld.gov.au
SUMMARY:School Visits
DESCRIPTION:
URL:https://www.crossriverrailexperiencecentre.qld.gov.au/event/school-visits/2022-01-12/
LOCATION:Experience Centre\, 1/151 Elizabeth Street\, Brisbane\, Queensland\, 4000\, Australia
CATEGORIES:School Visits
GEO:-27.470079673728;153.02656643906
X-APPLE-STRUCTURED-LOCATION;VALUE=URI;X-ADDRESS=Experience Centre 1/151 Elizabeth Street Brisbane Queensland 4000 Australia;X-APPLE-RADIUS=500;X-TITLE=1/151 Elizabeth Street:geo:153.02656643906,-27.470079673728
END:VEVENT
BEGIN:VEVENT
DTSTART;TZID=Australia/Brisbane:20220112T103000
DTEND;TZID=Australia/Brisbane:20220112T123000
DTSTAMP:20260421T142808
CREATED:20211116T005406Z
LAST-MODIFIED:20211207T063125Z
UID:10000391-1641983400-1641990600@www.crossriverrailexperiencecentre.qld.gov.au
SUMMARY:Create your own train signalling system
DESCRIPTION:The new European Train Control System being installed by Cross River Rail is an advanced signalling system that relays continuous information between trains and the central Rail Management Centre. Create your own signalling system that can measure the time taken between gates and the speed of a miniature train travelling through the alignment.  \nRecommended for ages 12+\, adult supervision required. \nUse the links below to register for the event: \n\n14 December\n20 December\n29 December\n31 December\n12 January
URL:https://www.crossriverrailexperiencecentre.qld.gov.au/event/basic-etcs/2022-01-12/
LOCATION:Experience Centre\, 1/151 Elizabeth Street\, Brisbane\, Queensland\, 4000\, Australia
CATEGORIES:School Holidays
ATTACH;FMTTYPE=image/png:https://www.crossriverrailexperiencecentre.qld.gov.au/wp-content/uploads/2021/12/211129-21-X1002-ExpC-School-Holiday-Activity-Graphics_v22.png
GEO:-27.470079673728;153.02656643906
X-APPLE-STRUCTURED-LOCATION;VALUE=URI;X-ADDRESS=Experience Centre 1/151 Elizabeth Street Brisbane Queensland 4000 Australia;X-APPLE-RADIUS=500;X-TITLE=1/151 Elizabeth Street:geo:153.02656643906,-27.470079673728
END:VEVENT
END:VCALENDAR