BEGIN:VCALENDAR
VERSION:2.0
PRODID:-//Experience Centre - ECPv6.10.0//NONSGML v1.0//EN
CALSCALE:GREGORIAN
METHOD:PUBLISH
X-ORIGINAL-URL:https://www.crossriverrailexperiencecentre.qld.gov.au
X-WR-CALDESC:Events for Experience Centre
REFRESH-INTERVAL;VALUE=DURATION:PT1H
X-Robots-Tag:noindex
X-PUBLISHED-TTL:PT1H
BEGIN:VTIMEZONE
TZID:Australia/Brisbane
BEGIN:STANDARD
TZOFFSETFROM:+1000
TZOFFSETTO:+1000
TZNAME:AEST
DTSTART:20250101T000000
END:STANDARD
END:VTIMEZONE
BEGIN:VEVENT
DTSTART;TZID=Australia/Brisbane:20250830T110000
DTEND;TZID=Australia/Brisbane:20250830T130000
DTSTAMP:20260426T133210
CREATED:20250618T225512Z
LAST-MODIFIED:20250722T223421Z
UID:10000848-1756551600-1756558800@www.crossriverrailexperiencecentre.qld.gov.au
SUMMARY:Lego Build & Create
DESCRIPTION:Build your own future development! Become an urban planner and design the new Albert Street precinct. From streets\, transport\, trees and buildings of different shapes and sizes\, how will you bring your city to life using only Lego. \nRecommended for ages 5+\, caregiver participation encouraged. \nThis is a drop in session. \n\nSaturday 9 August\, 11am to 1pm\nSaturday 30 August\, 11am to 1pm
URL:https://www.crossriverrailexperiencecentre.qld.gov.au/event/lego-build-create/2025-08-30/
LOCATION:Experience Centre\, 1/151 Elizabeth Street\, Brisbane\, Queensland\, 4000\, Australia
CATEGORIES:Weekend Programs
ATTACH;FMTTYPE=image/png:https://www.crossriverrailexperiencecentre.qld.gov.au/wp-content/uploads/2024/05/230510_EC_School_Holiday_Graphics_600x400-iso_lego.png
GEO:-27.470079673728;153.02656643906
X-APPLE-STRUCTURED-LOCATION;VALUE=URI;X-ADDRESS=Experience Centre 1/151 Elizabeth Street Brisbane Queensland 4000 Australia;X-APPLE-RADIUS=500;X-TITLE=1/151 Elizabeth Street:geo:153.02656643906,-27.470079673728
END:VEVENT
END:VCALENDAR