BEGIN:VCALENDAR
VERSION:2.0
PRODID:-//Experience Centre - ECPv6.10.0//NONSGML v1.0//EN
CALSCALE:GREGORIAN
METHOD:PUBLISH
X-ORIGINAL-URL:https://www.crossriverrailexperiencecentre.qld.gov.au
X-WR-CALDESC:Events for Experience Centre
REFRESH-INTERVAL;VALUE=DURATION:PT1H
X-Robots-Tag:noindex
X-PUBLISHED-TTL:PT1H
BEGIN:VTIMEZONE
TZID:Australia/Brisbane
BEGIN:STANDARD
TZOFFSETFROM:+1000
TZOFFSETTO:+1000
TZNAME:AEST
DTSTART:20210101T000000
END:STANDARD
END:VTIMEZONE
BEGIN:VEVENT
DTSTART;TZID=Australia/Brisbane:20211018T093000
DTEND;TZID=Australia/Brisbane:20211018T093000
DTSTAMP:20260426T005554
CREATED:20211008T030437Z
LAST-MODIFIED:20211008T063308Z
UID:10000292-1634549400-1634549400@www.crossriverrailexperiencecentre.qld.gov.au
SUMMARY:School Visits
DESCRIPTION:
URL:https://www.crossriverrailexperiencecentre.qld.gov.au/event/school-visits/2021-10-18/
LOCATION:Experience Centre\, 1/151 Elizabeth Street\, Brisbane\, Queensland\, 4000\, Australia
CATEGORIES:School Visits
GEO:-27.470079673728;153.02656643906
X-APPLE-STRUCTURED-LOCATION;VALUE=URI;X-ADDRESS=Experience Centre 1/151 Elizabeth Street Brisbane Queensland 4000 Australia;X-APPLE-RADIUS=500;X-TITLE=1/151 Elizabeth Street:geo:153.02656643906,-27.470079673728
END:VEVENT
BEGIN:VEVENT
DTSTART;TZID=Australia/Brisbane:20211020T093000
DTEND;TZID=Australia/Brisbane:20211020T093000
DTSTAMP:20260426T005554
CREATED:20211008T030437Z
LAST-MODIFIED:20211008T063308Z
UID:10000293-1634722200-1634722200@www.crossriverrailexperiencecentre.qld.gov.au
SUMMARY:School Visits
DESCRIPTION:
URL:https://www.crossriverrailexperiencecentre.qld.gov.au/event/school-visits/2021-10-20/
LOCATION:Experience Centre\, 1/151 Elizabeth Street\, Brisbane\, Queensland\, 4000\, Australia
CATEGORIES:School Visits
GEO:-27.470079673728;153.02656643906
X-APPLE-STRUCTURED-LOCATION;VALUE=URI;X-ADDRESS=Experience Centre 1/151 Elizabeth Street Brisbane Queensland 4000 Australia;X-APPLE-RADIUS=500;X-TITLE=1/151 Elizabeth Street:geo:153.02656643906,-27.470079673728
END:VEVENT
BEGIN:VEVENT
DTSTART;TZID=Australia/Brisbane:20211021T093000
DTEND;TZID=Australia/Brisbane:20211021T093000
DTSTAMP:20260426T005554
CREATED:20211008T030437Z
LAST-MODIFIED:20211008T063308Z
UID:10000294-1634808600-1634808600@www.crossriverrailexperiencecentre.qld.gov.au
SUMMARY:School Visits
DESCRIPTION:
URL:https://www.crossriverrailexperiencecentre.qld.gov.au/event/school-visits/2021-10-21/
LOCATION:Experience Centre\, 1/151 Elizabeth Street\, Brisbane\, Queensland\, 4000\, Australia
CATEGORIES:School Visits
GEO:-27.470079673728;153.02656643906
X-APPLE-STRUCTURED-LOCATION;VALUE=URI;X-ADDRESS=Experience Centre 1/151 Elizabeth Street Brisbane Queensland 4000 Australia;X-APPLE-RADIUS=500;X-TITLE=1/151 Elizabeth Street:geo:153.02656643906,-27.470079673728
END:VEVENT
BEGIN:VEVENT
DTSTART;TZID=Australia/Brisbane:20211022T093000
DTEND;TZID=Australia/Brisbane:20211022T093000
DTSTAMP:20260426T005554
CREATED:20211008T030437Z
LAST-MODIFIED:20211008T063308Z
UID:10000295-1634895000-1634895000@www.crossriverrailexperiencecentre.qld.gov.au
SUMMARY:School Visits
DESCRIPTION:
URL:https://www.crossriverrailexperiencecentre.qld.gov.au/event/school-visits/2021-10-22/
LOCATION:Experience Centre\, 1/151 Elizabeth Street\, Brisbane\, Queensland\, 4000\, Australia
CATEGORIES:School Visits
GEO:-27.470079673728;153.02656643906
X-APPLE-STRUCTURED-LOCATION;VALUE=URI;X-ADDRESS=Experience Centre 1/151 Elizabeth Street Brisbane Queensland 4000 Australia;X-APPLE-RADIUS=500;X-TITLE=1/151 Elizabeth Street:geo:153.02656643906,-27.470079673728
END:VEVENT
BEGIN:VEVENT
DTSTART;TZID=Australia/Brisbane:20211023T093000
DTEND;TZID=Australia/Brisbane:20211023T093000
DTSTAMP:20260426T005554
CREATED:20211008T030437Z
LAST-MODIFIED:20211008T063308Z
UID:10000296-1634981400-1634981400@www.crossriverrailexperiencecentre.qld.gov.au
SUMMARY:School Visits
DESCRIPTION:
URL:https://www.crossriverrailexperiencecentre.qld.gov.au/event/school-visits/2021-10-23/
LOCATION:Experience Centre\, 1/151 Elizabeth Street\, Brisbane\, Queensland\, 4000\, Australia
CATEGORIES:School Visits
GEO:-27.470079673728;153.02656643906
X-APPLE-STRUCTURED-LOCATION;VALUE=URI;X-ADDRESS=Experience Centre 1/151 Elizabeth Street Brisbane Queensland 4000 Australia;X-APPLE-RADIUS=500;X-TITLE=1/151 Elizabeth Street:geo:153.02656643906,-27.470079673728
END:VEVENT
BEGIN:VEVENT
DTSTART;TZID=Australia/Brisbane:20211024T093000
DTEND;TZID=Australia/Brisbane:20211024T093000
DTSTAMP:20260426T005554
CREATED:20211008T030437Z
LAST-MODIFIED:20211008T063308Z
UID:10000297-1635067800-1635067800@www.crossriverrailexperiencecentre.qld.gov.au
SUMMARY:School Visits
DESCRIPTION:
URL:https://www.crossriverrailexperiencecentre.qld.gov.au/event/school-visits/2021-10-24/
LOCATION:Experience Centre\, 1/151 Elizabeth Street\, Brisbane\, Queensland\, 4000\, Australia
CATEGORIES:School Visits
GEO:-27.470079673728;153.02656643906
X-APPLE-STRUCTURED-LOCATION;VALUE=URI;X-ADDRESS=Experience Centre 1/151 Elizabeth Street Brisbane Queensland 4000 Australia;X-APPLE-RADIUS=500;X-TITLE=1/151 Elizabeth Street:geo:153.02656643906,-27.470079673728
END:VEVENT
END:VCALENDAR