BEGIN:VCALENDAR
VERSION:2.0
PRODID:-//Experience Centre - ECPv6.10.0//NONSGML v1.0//EN
CALSCALE:GREGORIAN
METHOD:PUBLISH
X-ORIGINAL-URL:https://www.crossriverrailexperiencecentre.qld.gov.au
X-WR-CALDESC:Events for Experience Centre
REFRESH-INTERVAL;VALUE=DURATION:PT1H
X-Robots-Tag:noindex
X-PUBLISHED-TTL:PT1H
BEGIN:VTIMEZONE
TZID:Australia/Brisbane
BEGIN:STANDARD
TZOFFSETFROM:+1000
TZOFFSETTO:+1000
TZNAME:AEST
DTSTART:20210101T000000
END:STANDARD
END:VTIMEZONE
BEGIN:VEVENT
DTSTART;TZID=Australia/Brisbane:20211206T093000
DTEND;TZID=Australia/Brisbane:20211206T093000
DTSTAMP:20260421T132758
CREATED:20211008T030437Z
LAST-MODIFIED:20211008T063308Z
UID:10000333-1638783000-1638783000@www.crossriverrailexperiencecentre.qld.gov.au
SUMMARY:School Visits
DESCRIPTION:
URL:https://www.crossriverrailexperiencecentre.qld.gov.au/event/school-visits/2021-12-06/
LOCATION:Experience Centre\, 1/151 Elizabeth Street\, Brisbane\, Queensland\, 4000\, Australia
CATEGORIES:School Visits
GEO:-27.470079673728;153.02656643906
X-APPLE-STRUCTURED-LOCATION;VALUE=URI;X-ADDRESS=Experience Centre 1/151 Elizabeth Street Brisbane Queensland 4000 Australia;X-APPLE-RADIUS=500;X-TITLE=1/151 Elizabeth Street:geo:153.02656643906,-27.470079673728
END:VEVENT
BEGIN:VEVENT
DTSTART;TZID=Australia/Brisbane:20211208T093000
DTEND;TZID=Australia/Brisbane:20211208T093000
DTSTAMP:20260421T132758
CREATED:20211008T030437Z
LAST-MODIFIED:20211008T063308Z
UID:10000334-1638955800-1638955800@www.crossriverrailexperiencecentre.qld.gov.au
SUMMARY:School Visits
DESCRIPTION:
URL:https://www.crossriverrailexperiencecentre.qld.gov.au/event/school-visits/2021-12-08/
LOCATION:Experience Centre\, 1/151 Elizabeth Street\, Brisbane\, Queensland\, 4000\, Australia
CATEGORIES:School Visits
GEO:-27.470079673728;153.02656643906
X-APPLE-STRUCTURED-LOCATION;VALUE=URI;X-ADDRESS=Experience Centre 1/151 Elizabeth Street Brisbane Queensland 4000 Australia;X-APPLE-RADIUS=500;X-TITLE=1/151 Elizabeth Street:geo:153.02656643906,-27.470079673728
END:VEVENT
BEGIN:VEVENT
DTSTART;TZID=Australia/Brisbane:20211209T093000
DTEND;TZID=Australia/Brisbane:20211209T093000
DTSTAMP:20260421T132758
CREATED:20211008T030437Z
LAST-MODIFIED:20211008T063308Z
UID:10000335-1639042200-1639042200@www.crossriverrailexperiencecentre.qld.gov.au
SUMMARY:School Visits
DESCRIPTION:
URL:https://www.crossriverrailexperiencecentre.qld.gov.au/event/school-visits/2021-12-09/
LOCATION:Experience Centre\, 1/151 Elizabeth Street\, Brisbane\, Queensland\, 4000\, Australia
CATEGORIES:School Visits
GEO:-27.470079673728;153.02656643906
X-APPLE-STRUCTURED-LOCATION;VALUE=URI;X-ADDRESS=Experience Centre 1/151 Elizabeth Street Brisbane Queensland 4000 Australia;X-APPLE-RADIUS=500;X-TITLE=1/151 Elizabeth Street:geo:153.02656643906,-27.470079673728
END:VEVENT
BEGIN:VEVENT
DTSTART;TZID=Australia/Brisbane:20211210T093000
DTEND;TZID=Australia/Brisbane:20211210T093000
DTSTAMP:20260421T132758
CREATED:20211008T030437Z
LAST-MODIFIED:20211008T063308Z
UID:10000336-1639128600-1639128600@www.crossriverrailexperiencecentre.qld.gov.au
SUMMARY:School Visits
DESCRIPTION:
URL:https://www.crossriverrailexperiencecentre.qld.gov.au/event/school-visits/2021-12-10/
LOCATION:Experience Centre\, 1/151 Elizabeth Street\, Brisbane\, Queensland\, 4000\, Australia
CATEGORIES:School Visits
GEO:-27.470079673728;153.02656643906
X-APPLE-STRUCTURED-LOCATION;VALUE=URI;X-ADDRESS=Experience Centre 1/151 Elizabeth Street Brisbane Queensland 4000 Australia;X-APPLE-RADIUS=500;X-TITLE=1/151 Elizabeth Street:geo:153.02656643906,-27.470079673728
END:VEVENT
BEGIN:VEVENT
DTSTART;TZID=Australia/Brisbane:20211211T093000
DTEND;TZID=Australia/Brisbane:20211211T093000
DTSTAMP:20260421T132758
CREATED:20211008T030437Z
LAST-MODIFIED:20211008T063308Z
UID:10000337-1639215000-1639215000@www.crossriverrailexperiencecentre.qld.gov.au
SUMMARY:School Visits
DESCRIPTION:
URL:https://www.crossriverrailexperiencecentre.qld.gov.au/event/school-visits/2021-12-11/
LOCATION:Experience Centre\, 1/151 Elizabeth Street\, Brisbane\, Queensland\, 4000\, Australia
CATEGORIES:School Visits
GEO:-27.470079673728;153.02656643906
X-APPLE-STRUCTURED-LOCATION;VALUE=URI;X-ADDRESS=Experience Centre 1/151 Elizabeth Street Brisbane Queensland 4000 Australia;X-APPLE-RADIUS=500;X-TITLE=1/151 Elizabeth Street:geo:153.02656643906,-27.470079673728
END:VEVENT
BEGIN:VEVENT
DTSTART;TZID=Australia/Brisbane:20211212T093000
DTEND;TZID=Australia/Brisbane:20211212T093000
DTSTAMP:20260421T132758
CREATED:20211008T030437Z
LAST-MODIFIED:20211008T063308Z
UID:10000338-1639301400-1639301400@www.crossriverrailexperiencecentre.qld.gov.au
SUMMARY:School Visits
DESCRIPTION:
URL:https://www.crossriverrailexperiencecentre.qld.gov.au/event/school-visits/2021-12-12/
LOCATION:Experience Centre\, 1/151 Elizabeth Street\, Brisbane\, Queensland\, 4000\, Australia
CATEGORIES:School Visits
GEO:-27.470079673728;153.02656643906
X-APPLE-STRUCTURED-LOCATION;VALUE=URI;X-ADDRESS=Experience Centre 1/151 Elizabeth Street Brisbane Queensland 4000 Australia;X-APPLE-RADIUS=500;X-TITLE=1/151 Elizabeth Street:geo:153.02656643906,-27.470079673728
END:VEVENT
END:VCALENDAR