BEGIN:VCALENDAR
VERSION:2.0
PRODID:-//Experience Centre - ECPv6.10.0//NONSGML v1.0//EN
CALSCALE:GREGORIAN
METHOD:PUBLISH
X-WR-CALNAME:Experience Centre
X-ORIGINAL-URL:https://www.crossriverrailexperiencecentre.qld.gov.au
X-WR-CALDESC:Events for Experience Centre
REFRESH-INTERVAL;VALUE=DURATION:PT1H
X-Robots-Tag:noindex
X-PUBLISHED-TTL:PT1H
BEGIN:VTIMEZONE
TZID:Australia/Brisbane
BEGIN:STANDARD
TZOFFSETFROM:+1000
TZOFFSETTO:+1000
TZNAME:AEST
DTSTART:20220101T000000
END:STANDARD
END:VTIMEZONE
BEGIN:VEVENT
DTSTART;TZID=Australia/Brisbane:20220103T093000
DTEND;TZID=Australia/Brisbane:20220103T093000
DTSTAMP:20260421T024141
CREATED:20211008T030437Z
LAST-MODIFIED:20211008T063308Z
UID:10000351-1641202200-1641202200@www.crossriverrailexperiencecentre.qld.gov.au
SUMMARY:School Visits
DESCRIPTION:
URL:https://www.crossriverrailexperiencecentre.qld.gov.au/event/school-visits/2022-01-03/
LOCATION:Experience Centre\, 1/151 Elizabeth Street\, Brisbane\, Queensland\, 4000\, Australia
CATEGORIES:School Visits
GEO:-27.470079673728;153.02656643906
X-APPLE-STRUCTURED-LOCATION;VALUE=URI;X-ADDRESS=Experience Centre 1/151 Elizabeth Street Brisbane Queensland 4000 Australia;X-APPLE-RADIUS=500;X-TITLE=1/151 Elizabeth Street:geo:153.02656643906,-27.470079673728
END:VEVENT
BEGIN:VEVENT
DTSTART;TZID=Australia/Brisbane:20220105T093000
DTEND;TZID=Australia/Brisbane:20220105T093000
DTSTAMP:20260421T024141
CREATED:20211008T030437Z
LAST-MODIFIED:20211008T063308Z
UID:10000352-1641375000-1641375000@www.crossriverrailexperiencecentre.qld.gov.au
SUMMARY:School Visits
DESCRIPTION:
URL:https://www.crossriverrailexperiencecentre.qld.gov.au/event/school-visits/2022-01-05/
LOCATION:Experience Centre\, 1/151 Elizabeth Street\, Brisbane\, Queensland\, 4000\, Australia
CATEGORIES:School Visits
GEO:-27.470079673728;153.02656643906
X-APPLE-STRUCTURED-LOCATION;VALUE=URI;X-ADDRESS=Experience Centre 1/151 Elizabeth Street Brisbane Queensland 4000 Australia;X-APPLE-RADIUS=500;X-TITLE=1/151 Elizabeth Street:geo:153.02656643906,-27.470079673728
END:VEVENT
BEGIN:VEVENT
DTSTART;TZID=Australia/Brisbane:20220106T093000
DTEND;TZID=Australia/Brisbane:20220106T093000
DTSTAMP:20260421T024141
CREATED:20211008T030437Z
LAST-MODIFIED:20211008T063308Z
UID:10000353-1641461400-1641461400@www.crossriverrailexperiencecentre.qld.gov.au
SUMMARY:School Visits
DESCRIPTION:
URL:https://www.crossriverrailexperiencecentre.qld.gov.au/event/school-visits/2022-01-06/
LOCATION:Experience Centre\, 1/151 Elizabeth Street\, Brisbane\, Queensland\, 4000\, Australia
CATEGORIES:School Visits
GEO:-27.470079673728;153.02656643906
X-APPLE-STRUCTURED-LOCATION;VALUE=URI;X-ADDRESS=Experience Centre 1/151 Elizabeth Street Brisbane Queensland 4000 Australia;X-APPLE-RADIUS=500;X-TITLE=1/151 Elizabeth Street:geo:153.02656643906,-27.470079673728
END:VEVENT
BEGIN:VEVENT
DTSTART;TZID=Australia/Brisbane:20220107T093000
DTEND;TZID=Australia/Brisbane:20220107T093000
DTSTAMP:20260421T024141
CREATED:20211008T030437Z
LAST-MODIFIED:20211008T063308Z
UID:10000354-1641547800-1641547800@www.crossriverrailexperiencecentre.qld.gov.au
SUMMARY:School Visits
DESCRIPTION:
URL:https://www.crossriverrailexperiencecentre.qld.gov.au/event/school-visits/2022-01-07/
LOCATION:Experience Centre\, 1/151 Elizabeth Street\, Brisbane\, Queensland\, 4000\, Australia
CATEGORIES:School Visits
GEO:-27.470079673728;153.02656643906
X-APPLE-STRUCTURED-LOCATION;VALUE=URI;X-ADDRESS=Experience Centre 1/151 Elizabeth Street Brisbane Queensland 4000 Australia;X-APPLE-RADIUS=500;X-TITLE=1/151 Elizabeth Street:geo:153.02656643906,-27.470079673728
END:VEVENT
BEGIN:VEVENT
DTSTART;TZID=Australia/Brisbane:20220108T093000
DTEND;TZID=Australia/Brisbane:20220108T093000
DTSTAMP:20260421T024141
CREATED:20211008T030437Z
LAST-MODIFIED:20211008T063308Z
UID:10000355-1641634200-1641634200@www.crossriverrailexperiencecentre.qld.gov.au
SUMMARY:School Visits
DESCRIPTION:
URL:https://www.crossriverrailexperiencecentre.qld.gov.au/event/school-visits/2022-01-08/
LOCATION:Experience Centre\, 1/151 Elizabeth Street\, Brisbane\, Queensland\, 4000\, Australia
CATEGORIES:School Visits
GEO:-27.470079673728;153.02656643906
X-APPLE-STRUCTURED-LOCATION;VALUE=URI;X-ADDRESS=Experience Centre 1/151 Elizabeth Street Brisbane Queensland 4000 Australia;X-APPLE-RADIUS=500;X-TITLE=1/151 Elizabeth Street:geo:153.02656643906,-27.470079673728
END:VEVENT
BEGIN:VEVENT
DTSTART;TZID=Australia/Brisbane:20220109T093000
DTEND;TZID=Australia/Brisbane:20220109T093000
DTSTAMP:20260421T024141
CREATED:20211008T030437Z
LAST-MODIFIED:20211008T063308Z
UID:10000356-1641720600-1641720600@www.crossriverrailexperiencecentre.qld.gov.au
SUMMARY:School Visits
DESCRIPTION:
URL:https://www.crossriverrailexperiencecentre.qld.gov.au/event/school-visits/2022-01-09/
LOCATION:Experience Centre\, 1/151 Elizabeth Street\, Brisbane\, Queensland\, 4000\, Australia
CATEGORIES:School Visits
GEO:-27.470079673728;153.02656643906
X-APPLE-STRUCTURED-LOCATION;VALUE=URI;X-ADDRESS=Experience Centre 1/151 Elizabeth Street Brisbane Queensland 4000 Australia;X-APPLE-RADIUS=500;X-TITLE=1/151 Elizabeth Street:geo:153.02656643906,-27.470079673728
END:VEVENT
END:VCALENDAR