BEGIN:VCALENDAR
VERSION:2.0
PRODID:-//Experience Centre - ECPv6.10.0//NONSGML v1.0//EN
CALSCALE:GREGORIAN
METHOD:PUBLISH
X-ORIGINAL-URL:https://www.crossriverrailexperiencecentre.qld.gov.au
X-WR-CALDESC:Events for Experience Centre
REFRESH-INTERVAL;VALUE=DURATION:PT1H
X-Robots-Tag:noindex
X-PUBLISHED-TTL:PT1H
BEGIN:VTIMEZONE
TZID:Australia/Brisbane
BEGIN:STANDARD
TZOFFSETFROM:+1000
TZOFFSETTO:+1000
TZNAME:AEST
DTSTART:20210101T000000
END:STANDARD
END:VTIMEZONE
BEGIN:VEVENT
DTSTART;TZID=Australia/Brisbane:20211025T093000
DTEND;TZID=Australia/Brisbane:20211025T093000
DTSTAMP:20260421T220028
CREATED:20211008T030437Z
LAST-MODIFIED:20211008T063308Z
UID:10000298-1635154200-1635154200@www.crossriverrailexperiencecentre.qld.gov.au
SUMMARY:School Visits
DESCRIPTION:
URL:https://www.crossriverrailexperiencecentre.qld.gov.au/event/school-visits/2021-10-25/
LOCATION:Experience Centre\, 1/151 Elizabeth Street\, Brisbane\, Queensland\, 4000\, Australia
CATEGORIES:School Visits
GEO:-27.470079673728;153.02656643906
X-APPLE-STRUCTURED-LOCATION;VALUE=URI;X-ADDRESS=Experience Centre 1/151 Elizabeth Street Brisbane Queensland 4000 Australia;X-APPLE-RADIUS=500;X-TITLE=1/151 Elizabeth Street:geo:153.02656643906,-27.470079673728
END:VEVENT
BEGIN:VEVENT
DTSTART;TZID=Australia/Brisbane:20211027T093000
DTEND;TZID=Australia/Brisbane:20211027T093000
DTSTAMP:20260421T220028
CREATED:20211008T030437Z
LAST-MODIFIED:20211008T063308Z
UID:10000299-1635327000-1635327000@www.crossriverrailexperiencecentre.qld.gov.au
SUMMARY:School Visits
DESCRIPTION:
URL:https://www.crossriverrailexperiencecentre.qld.gov.au/event/school-visits/2021-10-27/
LOCATION:Experience Centre\, 1/151 Elizabeth Street\, Brisbane\, Queensland\, 4000\, Australia
CATEGORIES:School Visits
GEO:-27.470079673728;153.02656643906
X-APPLE-STRUCTURED-LOCATION;VALUE=URI;X-ADDRESS=Experience Centre 1/151 Elizabeth Street Brisbane Queensland 4000 Australia;X-APPLE-RADIUS=500;X-TITLE=1/151 Elizabeth Street:geo:153.02656643906,-27.470079673728
END:VEVENT
BEGIN:VEVENT
DTSTART;TZID=Australia/Brisbane:20211028T093000
DTEND;TZID=Australia/Brisbane:20211028T093000
DTSTAMP:20260421T220028
CREATED:20211008T030437Z
LAST-MODIFIED:20211008T063308Z
UID:10000300-1635413400-1635413400@www.crossriverrailexperiencecentre.qld.gov.au
SUMMARY:School Visits
DESCRIPTION:
URL:https://www.crossriverrailexperiencecentre.qld.gov.au/event/school-visits/2021-10-28/
LOCATION:Experience Centre\, 1/151 Elizabeth Street\, Brisbane\, Queensland\, 4000\, Australia
CATEGORIES:School Visits
GEO:-27.470079673728;153.02656643906
X-APPLE-STRUCTURED-LOCATION;VALUE=URI;X-ADDRESS=Experience Centre 1/151 Elizabeth Street Brisbane Queensland 4000 Australia;X-APPLE-RADIUS=500;X-TITLE=1/151 Elizabeth Street:geo:153.02656643906,-27.470079673728
END:VEVENT
BEGIN:VEVENT
DTSTART;TZID=Australia/Brisbane:20211030T093000
DTEND;TZID=Australia/Brisbane:20211030T093000
DTSTAMP:20260421T220028
CREATED:20211008T030437Z
LAST-MODIFIED:20211008T063308Z
UID:10000301-1635586200-1635586200@www.crossriverrailexperiencecentre.qld.gov.au
SUMMARY:School Visits
DESCRIPTION:
URL:https://www.crossriverrailexperiencecentre.qld.gov.au/event/school-visits/2021-10-30/
LOCATION:Experience Centre\, 1/151 Elizabeth Street\, Brisbane\, Queensland\, 4000\, Australia
CATEGORIES:School Visits
GEO:-27.470079673728;153.02656643906
X-APPLE-STRUCTURED-LOCATION;VALUE=URI;X-ADDRESS=Experience Centre 1/151 Elizabeth Street Brisbane Queensland 4000 Australia;X-APPLE-RADIUS=500;X-TITLE=1/151 Elizabeth Street:geo:153.02656643906,-27.470079673728
END:VEVENT
BEGIN:VEVENT
DTSTART;TZID=Australia/Brisbane:20211030T113000
DTEND;TZID=Australia/Brisbane:20211030T133000
DTSTAMP:20260421T220028
CREATED:20211007T061417Z
LAST-MODIFIED:20211008T065350Z
UID:10000281-1635593400-1635600600@www.crossriverrailexperiencecentre.qld.gov.au
SUMMARY:Dig Deep! An Archaeological Investigation
DESCRIPTION:Have you ever wondered what it would be like for future generations to dig up something that belonged to you and piece together what your life was like? Just as our archaeologists have uncovered Brisbane’s past\, we would like to see you decorate\, smash\, and uncover your very own piece of history at the Cross River Rail Experience Centre. All equipment and instructions will be supplied. No bookings required\, children will need adult supervision.
URL:https://www.crossriverrailexperiencecentre.qld.gov.au/event/dig-deep-an-archaeological-investigation-4/
LOCATION:Experience Centre\, 1/151 Elizabeth Street\, Brisbane\, Queensland\, 4000\, Australia
CATEGORIES:Weekend Programs
ATTACH;FMTTYPE=image/jpeg:https://www.crossriverrailexperiencecentre.qld.gov.au/wp-content/uploads/2021/10/event-dig-deep.jpg
GEO:-27.470079673728;153.02656643906
X-APPLE-STRUCTURED-LOCATION;VALUE=URI;X-ADDRESS=Experience Centre 1/151 Elizabeth Street Brisbane Queensland 4000 Australia;X-APPLE-RADIUS=500;X-TITLE=1/151 Elizabeth Street:geo:153.02656643906,-27.470079673728
END:VEVENT
BEGIN:VEVENT
DTSTART;TZID=Australia/Brisbane:20211031T093000
DTEND;TZID=Australia/Brisbane:20211031T093000
DTSTAMP:20260421T220028
CREATED:20211008T030437Z
LAST-MODIFIED:20211008T063308Z
UID:10000302-1635672600-1635672600@www.crossriverrailexperiencecentre.qld.gov.au
SUMMARY:School Visits
DESCRIPTION:
URL:https://www.crossriverrailexperiencecentre.qld.gov.au/event/school-visits/2021-10-31/
LOCATION:Experience Centre\, 1/151 Elizabeth Street\, Brisbane\, Queensland\, 4000\, Australia
CATEGORIES:School Visits
GEO:-27.470079673728;153.02656643906
X-APPLE-STRUCTURED-LOCATION;VALUE=URI;X-ADDRESS=Experience Centre 1/151 Elizabeth Street Brisbane Queensland 4000 Australia;X-APPLE-RADIUS=500;X-TITLE=1/151 Elizabeth Street:geo:153.02656643906,-27.470079673728
END:VEVENT
BEGIN:VEVENT
DTSTART;TZID=Australia/Brisbane:20211031T113000
DTEND;TZID=Australia/Brisbane:20211031T133000
DTSTAMP:20260421T220028
CREATED:20211007T061550Z
LAST-MODIFIED:20211008T065402Z
UID:10000282-1635679800-1635687000@www.crossriverrailexperiencecentre.qld.gov.au
SUMMARY:Dig Deep! An Archaeological Investigation
DESCRIPTION:Have you ever wondered what it would be like for future generations to dig up something that belonged to you and piece together what your life was like? Just as our archaeologists have uncovered Brisbane’s past\, we would like to see you decorate\, smash\, and uncover your very own piece of history at the Cross River Rail Experience Centre. All equipment and instructions will be supplied. No bookings required\, children will need adult supervision.
URL:https://www.crossriverrailexperiencecentre.qld.gov.au/event/dig-deep-an-archaeological-investigation-5/
LOCATION:Experience Centre\, 1/151 Elizabeth Street\, Brisbane\, Queensland\, 4000\, Australia
CATEGORIES:Weekend Programs
ATTACH;FMTTYPE=image/jpeg:https://www.crossriverrailexperiencecentre.qld.gov.au/wp-content/uploads/2021/10/event-dig-deep.jpg
GEO:-27.470079673728;153.02656643906
X-APPLE-STRUCTURED-LOCATION;VALUE=URI;X-ADDRESS=Experience Centre 1/151 Elizabeth Street Brisbane Queensland 4000 Australia;X-APPLE-RADIUS=500;X-TITLE=1/151 Elizabeth Street:geo:153.02656643906,-27.470079673728
END:VEVENT
END:VCALENDAR